BEGIN:VCALENDAR
VERSION:2.0
PRODID:-//Westmead Research Hub - ECPv6.15.20//NONSGML v1.0//EN
CALSCALE:GREGORIAN
METHOD:PUBLISH
X-WR-CALNAME:Westmead Research Hub
X-ORIGINAL-URL:https://www.westmead.org.au
X-WR-CALDESC:Events for Westmead Research Hub
REFRESH-INTERVAL;VALUE=DURATION:PT1H
X-Robots-Tag:noindex
X-PUBLISHED-TTL:PT1H
BEGIN:VTIMEZONE
TZID:UTC
BEGIN:STANDARD
TZOFFSETFROM:+0000
TZOFFSETTO:+0000
TZNAME:UTC
DTSTART:20250101T000000
END:STANDARD
END:VTIMEZONE
BEGIN:VEVENT
DTSTART;TZID=UTC:20260311T120000
DTEND;TZID=UTC:20260311T130000
DTSTAMP:20260424T193913
CREATED:20260225T225751Z
LAST-MODIFIED:20260302T013438Z
UID:6220-1773230400-1773234000@www.westmead.org.au
SUMMARY:CMRI Seminar: Associate Professor Liz Caldon\, Laboratory Head\, Garvan Institute
DESCRIPTION:Hosted by Children’s Medical Research Institute \nCall (02) 8865 2800 to register
URL:https://www.westmead.org.au/event/cmri-seminar-associate-professor-liz-caldon-laboratory-head-garvan-institute/
LOCATION:CMRI (214 Hawkesbury Road\, Sydney  New South Wales  2145)
CATEGORIES:Seminar
ATTACH;FMTTYPE=image/png:https://www.westmead.org.au/wp-content/uploads/2026/02/Screenshot-2026-03-02-123028-e1772415267289.png
END:VEVENT
END:VCALENDAR