BEGIN:VCALENDAR
VERSION:2.0
PRODID:-//Westmead Research Hub - ECPv6.15.20//NONSGML v1.0//EN
CALSCALE:GREGORIAN
METHOD:PUBLISH
X-WR-CALNAME:Westmead Research Hub
X-ORIGINAL-URL:https://www.westmead.org.au
X-WR-CALDESC:Events for Westmead Research Hub
REFRESH-INTERVAL;VALUE=DURATION:PT1H
X-Robots-Tag:noindex
X-PUBLISHED-TTL:PT1H
BEGIN:VTIMEZONE
TZID:UTC
BEGIN:STANDARD
TZOFFSETFROM:+0000
TZOFFSETTO:+0000
TZNAME:UTC
DTSTART:20250101T000000
END:STANDARD
END:VTIMEZONE
BEGIN:VTIMEZONE
TZID:Australia/Sydney
BEGIN:STANDARD
TZOFFSETFROM:+1100
TZOFFSETTO:+1000
TZNAME:AEST
DTSTART:20250405T160000
END:STANDARD
BEGIN:DAYLIGHT
TZOFFSETFROM:+1000
TZOFFSETTO:+1100
TZNAME:AEDT
DTSTART:20251004T160000
END:DAYLIGHT
BEGIN:STANDARD
TZOFFSETFROM:+1100
TZOFFSETTO:+1000
TZNAME:AEST
DTSTART:20260404T160000
END:STANDARD
BEGIN:DAYLIGHT
TZOFFSETFROM:+1000
TZOFFSETTO:+1100
TZNAME:AEDT
DTSTART:20261003T160000
END:DAYLIGHT
BEGIN:STANDARD
TZOFFSETFROM:+1100
TZOFFSETTO:+1000
TZNAME:AEST
DTSTART:20270403T160000
END:STANDARD
BEGIN:DAYLIGHT
TZOFFSETFROM:+1000
TZOFFSETTO:+1100
TZNAME:AEDT
DTSTART:20271002T160000
END:DAYLIGHT
END:VTIMEZONE
BEGIN:VEVENT
DTSTART;TZID=UTC:20260313T103000
DTEND;TZID=UTC:20260313T170000
DTSTAMP:20260424T193913
CREATED:20260226T001207Z
LAST-MODIFIED:20260226T001207Z
UID:6240-1773397800-1773421200@www.westmead.org.au
SUMMARY:Sydney Clinical Imaging Summit 2026
DESCRIPTION:Hosted by Sydney Clinical Imaging Network\, The University of Sydney 
URL:https://www.westmead.org.au/event/sydney-clinical-imaging-summit-2026/
LOCATION:TAG Family Foundation Grandstand (B23)\, Camperdown NSW 2050
CATEGORIES:Summit
ATTACH;FMTTYPE=image/jpeg:https://www.westmead.org.au/wp-content/uploads/2026/02/1771547882845-SCIN_Newsletter-Header_Brain-scaled.jpg
ORGANIZER;CN="University of Sydney":MAILTO:cristina.dolci@sydney.edu.au
END:VEVENT
BEGIN:VEVENT
DTSTART;TZID=Australia/Sydney:20260313T130000
DTEND;TZID=Australia/Sydney:20260313T150000
DTSTAMP:20260424T193913
CREATED:20260225T024612Z
LAST-MODIFIED:20260225T050038Z
UID:6193-1773406800-1773414000@www.westmead.org.au
SUMMARY:Beyond the Patent - HealthTech Hub Masterclass
DESCRIPTION:Hosted by Cicada Innovations HealthTech Hub \n 
URL:https://www.westmead.org.au/event/beyond-the-patent-healthtech-hub-masterclass/
LOCATION:CMRI (214 Hawkesbury Road\, Sydney  New South Wales  2145)
CATEGORIES:Seminar
ATTACH;FMTTYPE=image/png:https://www.westmead.org.au/wp-content/uploads/2026/02/cicada-beyond-the-patent-1.png
END:VEVENT
END:VCALENDAR