BEGIN:VCALENDAR
VERSION:2.0
PRODID:-//Westmead Research Hub - ECPv6.15.20//NONSGML v1.0//EN
CALSCALE:GREGORIAN
METHOD:PUBLISH
X-WR-CALNAME:Westmead Research Hub
X-ORIGINAL-URL:https://www.westmead.org.au
X-WR-CALDESC:Events for Westmead Research Hub
REFRESH-INTERVAL;VALUE=DURATION:PT1H
X-Robots-Tag:noindex
X-PUBLISHED-TTL:PT1H
BEGIN:VTIMEZONE
TZID:UTC
BEGIN:STANDARD
TZOFFSETFROM:+0000
TZOFFSETTO:+0000
TZNAME:UTC
DTSTART:20250101T000000
END:STANDARD
END:VTIMEZONE
BEGIN:VEVENT
DTSTART;TZID=UTC:20260721T093000
DTEND;TZID=UTC:20260721T150000
DTSTAMP:20260425T125418
CREATED:20260421T015956Z
LAST-MODIFIED:20260421T015956Z
UID:6451-1784626200-1784646000@www.westmead.org.au
SUMMARY:Westmead Research Hub Showcase 2026
DESCRIPTION:Hosted by Westmead Research Hub \nWRH Research Showcase is a one‑day event highlighting the depth\, diversity and real‑world impact of research across the Westmead Precinct. The showcase brings together researchers\, clinicians\, industry and partners to connect people\, ideas and opportunities\, and to celebrate the breadth of work underway at Westmead.
URL:https://www.westmead.org.au/event/westmead-research-hub-showcase-2026/
LOCATION:Westmead Education and Conference Centre
CATEGORIES:Showcase
ATTACH;FMTTYPE=image/png:https://www.westmead.org.au/wp-content/uploads/2026/04/westmead-research-showcase.png
ORGANIZER;CN="Westmead Research Hub":MAILTO:info@westmead.org.au
END:VEVENT
END:VCALENDAR