BEGIN:VCALENDAR
VERSION:2.0
PRODID:-//Westmead Research Hub - ECPv6.15.20//NONSGML v1.0//EN
CALSCALE:GREGORIAN
METHOD:PUBLISH
X-WR-CALNAME:Westmead Research Hub
X-ORIGINAL-URL:https://www.westmead.org.au
X-WR-CALDESC:Events for Westmead Research Hub
REFRESH-INTERVAL;VALUE=DURATION:PT1H
X-Robots-Tag:noindex
X-PUBLISHED-TTL:PT1H
BEGIN:VTIMEZONE
TZID:UTC
BEGIN:STANDARD
TZOFFSETFROM:+0000
TZOFFSETTO:+0000
TZNAME:UTC
DTSTART:20250101T000000
END:STANDARD
END:VTIMEZONE
BEGIN:VEVENT
DTSTART;TZID=UTC:20260306T140000
DTEND;TZID=UTC:20260306T170000
DTSTAMP:20260425T114652
CREATED:20260225T051238Z
LAST-MODIFIED:20260302T013656Z
UID:6210-1772805600-1772816400@www.westmead.org.au
SUMMARY:Advanced Therapeutics: Enabling cell therapy at the point of care
DESCRIPTION:Hosted by Kids Research\, part of Sydney Children’s Hospital Network
URL:https://www.westmead.org.au/event/advanced-therapeutics-enabling-cell-therapy-at-the-point-of-care/
LOCATION:Online
CATEGORIES:Webinar
ATTACH;FMTTYPE=image/jpeg:https://www.westmead.org.au/wp-content/uploads/2026/02/Image-9-e1772415409275.jpg
END:VEVENT
BEGIN:VEVENT
DTSTART;TZID=UTC:20260305T100000
DTEND;TZID=UTC:20260305T120000
DTSTAMP:20260425T114652
CREATED:20260225T044301Z
LAST-MODIFIED:20260225T050014Z
UID:6199-1772704800-1772712000@www.westmead.org.au
SUMMARY:Foundations of Generative AI
DESCRIPTION:Hosted by Westmead Research Hub EMCR Network
URL:https://www.westmead.org.au/event/foundations-of-generative-ai/
LOCATION:CMRI (214 Hawkesbury Road\, Sydney  New South Wales  2145)
CATEGORIES:Seminar
ATTACH;FMTTYPE=image/jpeg:https://www.westmead.org.au/wp-content/uploads/2026/02/hand-medical-glove-pointing-virtual-screen-medical-technology-scaled-e1771995537814.jpg
END:VEVENT
BEGIN:VEVENT
DTSTART;VALUE=DATE:20260227
DTEND;VALUE=DATE:20260301
DTSTAMP:20260425T114652
CREATED:20260225T224258Z
LAST-MODIFIED:20260225T225832Z
UID:6215-1772150400-1772323199@www.westmead.org.au
SUMMARY:Rare Disease Day 2026: Care\, Connect\, Cure Summit
DESCRIPTION:Hosted by Kids Research\, part of the Sydney Children’s Hospital Network
URL:https://www.westmead.org.au/event/rare-disease-day-2026-care-connect-cure-summit/
LOCATION:Hybrid (UNSW Translation Hub)\, 55 Botany St\, Randwick\, Sydney\, New South Wales\, 2130\, Australia
CATEGORIES:Summit
ATTACH;FMTTYPE=image/png:https://www.westmead.org.au/wp-content/uploads/2026/02/Screenshot-2026-02-26-093941.png
ORGANIZER;CN="Sydney Children's Hospital Network":MAILTO:SCHN-Research@health.nsw.gov.au
END:VEVENT
END:VCALENDAR