BEGIN:VCALENDAR
VERSION:2.0
PRODID:-//Westmead Research Hub - ECPv6.15.20//NONSGML v1.0//EN
CALSCALE:GREGORIAN
METHOD:PUBLISH
X-ORIGINAL-URL:https://www.westmead.org.au
X-WR-CALDESC:Events for Westmead Research Hub
REFRESH-INTERVAL;VALUE=DURATION:PT1H
X-Robots-Tag:noindex
X-PUBLISHED-TTL:PT1H
BEGIN:VTIMEZONE
TZID:UTC
BEGIN:STANDARD
TZOFFSETFROM:+0000
TZOFFSETTO:+0000
TZNAME:UTC
DTSTART:20250101T000000
END:STANDARD
END:VTIMEZONE
BEGIN:VEVENT
DTSTART;TZID=UTC:20260429T090000
DTEND;TZID=UTC:20260429T170000
DTSTAMP:20260424T165048
CREATED:20260325T231019Z
LAST-MODIFIED:20260325T231019Z
UID:6370-1777453200-1777482000@www.westmead.org.au
SUMMARY:Building Regulatory and Trial Readiness for Medical Devices & SaMD
DESCRIPTION:Hosted by Cicada Innovations HealthTech Hub
URL:https://www.westmead.org.au/event/building-regulatory-and-trial-readiness-for-medical-devices-samd/
LOCATION:Westmead Exhibition and Conference Centre
CATEGORIES:Course,Seminar
ATTACH;FMTTYPE=image/png:https://www.westmead.org.au/wp-content/uploads/2026/02/Blog-Banner-Cicada-HealthTech-Hub-at-Westmead.png
END:VEVENT
END:VCALENDAR