BEGIN:VCALENDAR
VERSION:2.0
PRODID:-//Westmead Research Hub - ECPv6.15.20//NONSGML v1.0//EN
CALSCALE:GREGORIAN
METHOD:PUBLISH
X-ORIGINAL-URL:https://www.westmead.org.au
X-WR-CALDESC:Events for Westmead Research Hub
REFRESH-INTERVAL;VALUE=DURATION:PT1H
X-Robots-Tag:noindex
X-PUBLISHED-TTL:PT1H
BEGIN:VTIMEZONE
TZID:UTC
BEGIN:STANDARD
TZOFFSETFROM:+0000
TZOFFSETTO:+0000
TZNAME:UTC
DTSTART:20250101T000000
END:STANDARD
END:VTIMEZONE
BEGIN:VEVENT
DTSTART;VALUE=DATE:20260317
DTEND;VALUE=DATE:20260320
DTSTAMP:20260424T223440
CREATED:20260226T000141Z
LAST-MODIFIED:20260226T000141Z
UID:6238-1773705600-1773964799@www.westmead.org.au
SUMMARY:Software as a Medical Device Specialisation Course (NSW Health Commercialisation Training Program)
DESCRIPTION:Hosted by Cicada Innovations HealthTech Hub
URL:https://www.westmead.org.au/event/software-as-a-medical-device-specialisation-course-nsw-health-commercialisation-training-program/
LOCATION:Online
CATEGORIES:Webinar
ATTACH;FMTTYPE=image/png:https://www.westmead.org.au/wp-content/uploads/2026/02/Blog-Banner-Cicada-HealthTech-Hub-at-Westmead.png
END:VEVENT
END:VCALENDAR