BEGIN:VCALENDAR
VERSION:2.0
PRODID:-//Westmead Research Hub - ECPv6.15.20//NONSGML v1.0//EN
CALSCALE:GREGORIAN
METHOD:PUBLISH
X-ORIGINAL-URL:https://www.westmead.org.au
X-WR-CALDESC:Events for Westmead Research Hub
REFRESH-INTERVAL;VALUE=DURATION:PT1H
X-Robots-Tag:noindex
X-PUBLISHED-TTL:PT1H
BEGIN:VTIMEZONE
TZID:UTC
BEGIN:STANDARD
TZOFFSETFROM:+0000
TZOFFSETTO:+0000
TZNAME:UTC
DTSTART:20250101T000000
END:STANDARD
END:VTIMEZONE
BEGIN:VEVENT
DTSTART;VALUE=DATE:20260322
DTEND;VALUE=DATE:20260323
DTSTAMP:20260424T222756
CREATED:20260312T010651Z
LAST-MODIFIED:20260312T010651Z
UID:6357-1774137600-1774223999@www.westmead.org.au
SUMMARY:WRH Research Accelerator Program
DESCRIPTION:Hosted by Westmead Research Hub \n\n \n\nResearch Accelerator Program – 10x Genomics\nExplore 10x Genomics technologies through WRH‑supported pilot projects in collaboration with participating core facilities. Researchers can access expert support\, run small‑scale feasibility studies\, and generate data to support future grants and projects. \nDiscounts available on select Visium and Xenium assays for new users (conditions apply). \nApplications close: 8 March\nOrders by: 22 March \nContacts:\nJoshua Studdert (CMRI)\nJoey Lai\, PhD (WIMR)\nMarissa Doherty (10x Genomics) \n\n 
URL:https://www.westmead.org.au/event/wrh-research-accelerator-program/
CATEGORIES:Course
ATTACH;FMTTYPE=image/png:https://www.westmead.org.au/wp-content/uploads/2026/03/Screenshot-2026-03-12-120600.png
ORGANIZER;CN="Westmead Research Hub":MAILTO:info@westmead.org.au
END:VEVENT
END:VCALENDAR