BEGIN:VCALENDAR
VERSION:2.0
PRODID:-//Westmead Research Hub - ECPv6.15.20//NONSGML v1.0//EN
CALSCALE:GREGORIAN
METHOD:PUBLISH
X-ORIGINAL-URL:https://www.westmead.org.au
X-WR-CALDESC:Events for Westmead Research Hub
REFRESH-INTERVAL;VALUE=DURATION:PT1H
X-Robots-Tag:noindex
X-PUBLISHED-TTL:PT1H
BEGIN:VTIMEZONE
TZID:UTC
BEGIN:STANDARD
TZOFFSETFROM:+0000
TZOFFSETTO:+0000
TZNAME:UTC
DTSTART:20250101T000000
END:STANDARD
END:VTIMEZONE
BEGIN:VEVENT
DTSTART;VALUE=DATE:20260410
DTEND;VALUE=DATE:20260412
DTSTAMP:20260424T223222
CREATED:20260304T225656Z
LAST-MODIFIED:20260401T225646Z
UID:6257-1775779200-1775951999@www.westmead.org.au
SUMMARY:HSIL Hackathon 2026 - Building High-Value Health Systems
DESCRIPTION:LelHosted by Harvard T.H. Chan\, School of Public Health \nLocation:\nLevel 5\, Block K – Westmead Innovation Centre\nEntrance 11 Westmead Hospital\, corner Hawkesbury Road and Darcy Rd\, Westmead NSW 2145 \n  \nApply here now
URL:https://www.westmead.org.au/event/hsil-hackathon-2026-building-high-value-health-systems/
LOCATION:Level 5\, Block K -Westmead Innovation Centre. Entrance 11 Westmead Hospital\, corner Hawkesbury Road\, and Darcy Rd\, Westmead NSW 2145
CATEGORIES:Hackathon
ATTACH;FMTTYPE=image/jpeg:https://www.westmead.org.au/wp-content/uploads/2026/03/APPROVED-Poster_230226_page-0001.jpg
END:VEVENT
END:VCALENDAR